BEGIN:VCALENDAR
VERSION:2.0
PRODID:-//Kentucky Genealogical Society - ECPv6.15.20//NONSGML v1.0//EN
CALSCALE:GREGORIAN
METHOD:PUBLISH
X-WR-CALNAME:Kentucky Genealogical Society
X-ORIGINAL-URL:https://kygs.org
X-WR-CALDESC:Events for Kentucky Genealogical Society
REFRESH-INTERVAL;VALUE=DURATION:PT1H
X-Robots-Tag:noindex
X-PUBLISHED-TTL:PT1H
BEGIN:VTIMEZONE
TZID:America/New_York
BEGIN:DAYLIGHT
TZOFFSETFROM:-0500
TZOFFSETTO:-0400
TZNAME:EDT
DTSTART:20250309T070000
END:DAYLIGHT
BEGIN:STANDARD
TZOFFSETFROM:-0400
TZOFFSETTO:-0500
TZNAME:EST
DTSTART:20251102T060000
END:STANDARD
BEGIN:DAYLIGHT
TZOFFSETFROM:-0500
TZOFFSETTO:-0400
TZNAME:EDT
DTSTART:20260308T070000
END:DAYLIGHT
BEGIN:STANDARD
TZOFFSETFROM:-0400
TZOFFSETTO:-0500
TZNAME:EST
DTSTART:20261101T060000
END:STANDARD
BEGIN:DAYLIGHT
TZOFFSETFROM:-0500
TZOFFSETTO:-0400
TZNAME:EDT
DTSTART:20270314T070000
END:DAYLIGHT
BEGIN:STANDARD
TZOFFSETFROM:-0400
TZOFFSETTO:-0500
TZNAME:EST
DTSTART:20271107T060000
END:STANDARD
END:VTIMEZONE
BEGIN:VEVENT
DTSTART;TZID=America/New_York:20260511T190000
DTEND;TZID=America/New_York:20260511T200000
DTSTAMP:20260421T155309
CREATED:20260104T222458Z
LAST-MODIFIED:20260104T222458Z
UID:987504769-1778526000-1778529600@kygs.org
SUMMARY:Where Goetta Meets Grits: Defining Northern Kentucky
DESCRIPTION:What You Will Learn\nKentucky is a diverse Commonwealth with many regions and cultural influences. Learn more about what makes Northern Kentucky unique! We will explore what makes Northern Kentucky both similar and different to the rest of Kentucky. There will also be time to ask questions\, not only about Northern Kentucky history\, but also about Northern Kentucky genealogy sources. Join us to find out about one of Kentucky’s most populous and often misunderstood regions. \nSpeaker\nDave Schroeder\, is a native of Kenton County. He was named Executive Director of the nationally ranked Kenton County Public Library in April 2007. \nSchroeder earned a Bachelor of Arts degree in History from Thomas More University in Crestview Hills\, Kentucky. He also holds a Master of Arts degree in History from the University of Cincinnati and a Master of Science degree in Library Science from the University of Kentucky. \nRegistration Form\nMembers\nWhere Goetta Meets Grits: Defining Northern Kentucky 11 May\, 2026j M\, Y7:00pm EDT2026-05-11T23:00:00Zg:ia T1 hour\n                    \n                    \n                First NameLast NameEmailSign me up to the mailing listAre you sure you want to register for this webinar?\nNot a Member?\nIf you are not a member\, you can choose to join the Society and attend this webinar for free. You will also have free access to all webinars in the next year as well as access to all of our past webinars in the Learning Library. \n 
URL:https://kygs.org/event/where-goetta-meets-grits-defining-northern-kentucky/
CATEGORIES:Upcoming Webinar
ATTACH;FMTTYPE=image/jpeg:https://kygs.org/wp-content/uploads/stock-old-docs-08.jpg
END:VEVENT
END:VCALENDAR